﻿BEGIN:VCALENDAR
VERSION:2.0
PRODID:-//4X4 STORY - ECPv5.3.1//NONSGML v1.0//EN
CALSCALE:GREGORIAN
METHOD:PUBLISH
X-WR-CALNAME:4X4 STORY
X-ORIGINAL-URL:https://www.4x4story.fr
X-WR-CALDESC:évènements pour 4X4 STORY
BEGIN:VTIMEZONE
TZID:Europe/Paris
BEGIN:DAYLIGHT
TZOFFSETFROM:+0100
TZOFFSETTO:+0200
TZNAME:CEST
DTSTART:20200329T010000
END:DAYLIGHT
BEGIN:STANDARD
TZOFFSETFROM:+0200
TZOFFSETTO:+0100
TZNAME:CET
DTSTART:20201025T010000
END:STANDARD
END:VTIMEZONE
BEGIN:VEVENT
DTSTART;VALUE=DATE:20200812
DTEND;VALUE=DATE:20200824
DTSTAMP:20260423T121759
CREATED:20200512T140550Z
LAST-MODIFIED:20200512T140550Z
UID:2342-1597190400-1598227199@www.4x4story.fr
SUMMARY:PROVENCE 44 COMMEMORATIONS
DESCRIPTION:
URL:https://www.4x4story.fr/index.php/event/provence-44-commemorations/
CATEGORIES:EVENEMENTS
ATTACH;FMTTYPE=image/jpeg:https://www.4x4story.fr/wp-content/uploads/2020/05/PROVENCE-44-2020.jpg
END:VEVENT
END:VCALENDAR